Workbook

Sheet 26申込書 
A1: （大学･職場･一般･おかあさん用）
A2: 第４1回三重音楽祭 「第九」参加申込書
B4: 団 体 名 ：
B6: 代表者連絡先 | E6: 代表者名：
A7: - 住所： | B7: 〒 | E7: 代表者住所：
E8: Email(半角で入力）：
E9: 携帯電話：
A10: 楽譜について
A11: 楽譜は購入をお願いします。
A12: ★｢第九｣の楽譜は原則カワイ出版のものをご使用ください。楽譜の手配は各団にてお願いします。
A13: 参加者名簿
B14: 名 前 | D14: パート（SATBを記入） | G14: 名 前 | I14: パート（SATBを記入）
A15: 1 | F15: 11
A16: 2 | F16: 12
A17: 3 | F17: 13
A18: 4 | F18: 14
A19: 5 | F19: 15
A20: 6 | F20: 16
A21: 7 | F21: 17
A22: 8 | F22: 18
A23: 9 | F23: 19
A24: 10 | F24: 20
B26: 締切：令和8年10月29日（木）２４時までに送信してください。
B27: Email ： miechorus@yahoo.co.jp
B28: 三重県合唱連盟事務局 常住光子
B29: メール件名は「三重音楽祭申込 ○○」としてください。○○は団体名

Sheet (このシートはさわらないでください）
A1: 団体名 | B1: 代表者名 | C1: 代〒 | D1: 代住所 | E1: 代アドレス | F1: 代携帯 | H1: 名前 | I1: パート | J1: オンステ
A2: ='26申込書 '!F4 -> 0 | B2: ='26申込書 '!F6 -> 0 | C2: ='26申込書 '!C7 -> 0 | D2: ='26申込書 '!F7 -> 0 | E2: ='26申込書 '!F8 -> 0 | F2: ='26申込書 '!F9 -> 0 | G2: 名簿1 | H2: ='26申込書 '!B15 -> 0 | I2: ='26申込書 '!D15 -> 0 | J2: ='26申込書 '!E15 -> 0
G3: 名簿2 | H3: ='26申込書 '!B16 -> 0 | I3: ='26申込書 '!D16 -> 0 | J3: ='26申込書 '!E16 -> 0
G4: 名簿3 | H4: ='26申込書 '!B17 -> 0 | I4: ='26申込書 '!D17 -> 0 | J4: ='26申込書 '!E17 -> 0
G5: 名簿4 | H5: ='26申込書 '!B18 -> 0 | I5: ='26申込書 '!D18 -> 0 | J5: ='26申込書 '!E18 -> 0
G6: 名簿5 | H6: ='26申込書 '!B19 -> 0 | I6: ='26申込書 '!D19 -> 0 | J6: ='26申込書 '!E19 -> 0
G7: 名簿6 | H7: ='26申込書 '!B20 -> 0 | I7: ='26申込書 '!D20 -> 0 | J7: ='26申込書 '!E20 -> 0
G8: 名簿7 | H8: ='26申込書 '!B21 -> 0 | I8: ='26申込書 '!D21 -> 0 | J8: ='26申込書 '!E21 -> 0
G9: 名簿8 | H9: ='26申込書 '!B22 -> 0 | I9: ='26申込書 '!D22 -> 0 | J9: ='26申込書 '!E22 -> 0
G10: 名簿9 | H10: ='26申込書 '!B23 -> 0 | I10: ='26申込書 '!D23 -> 0 | J10: ='26申込書 '!E23 -> 0
G11: 名簿10 | H11: ='26申込書 '!B24 -> 0 | I11: ='26申込書 '!D24 -> 0 | J11: ='26申込書 '!E24 -> 0
G12: 名簿11 | H12: ='26申込書 '!G15 -> 0 | I12: ='26申込書 '!I15 -> 0 | J12: ='26申込書 '!J15 -> 0
G13: 名簿12 | H13: ='26申込書 '!G16 -> 0 | I13: ='26申込書 '!I16 -> 0 | J13: ='26申込書 '!J16 -> 0
G14: 名簿13 | H14: ='26申込書 '!G17 -> 0 | I14: ='26申込書 '!I17 -> 0 | J14: ='26申込書 '!J17 -> 0
G15: 名簿14 | H15: ='26申込書 '!G18 -> 0 | I15: ='26申込書 '!I18 -> 0 | J15: ='26申込書 '!J18 -> 0
G16: 名簿15 | H16: ='26申込書 '!G19 -> 0 | I16: ='26申込書 '!I19 -> 0 | J16: ='26申込書 '!J19 -> 0
G17: 名簿16 | H17: ='26申込書 '!G20 -> 0 | I17: ='26申込書 '!I20 -> 0 | J17: ='26申込書 '!J20 -> 0
G18: 名簿17 | H18: ='26申込書 '!G21 -> 0 | I18: ='26申込書 '!I21 -> 0 | J18: ='26申込書 '!J21 -> 0
G19: 名簿18 | H19: ='26申込書 '!G22 -> 0 | I19: ='26申込書 '!I22 -> 0 | J19: ='26申込書 '!J22 -> 0
G20: 名簿19 | H20: ='26申込書 '!G23 -> 0 | I20: ='26申込書 '!I23 -> 0 | J20: ='26申込書 '!J23 -> 0
G21: 名簿20 | H21: ='26申込書 '!G24 -> 0 | I21: ='26申込書 '!I24 -> 0 | J21: ='26申込書 '!J24 -> 0
