Workbook

Sheet 入力画面 (○)
A1: 第４２回 三重県合唱講習会申込書
A2: ※PCに一旦保存の上、必要事項を入力して miechorus@yahoo.co.jp にメール添付で申込みしてください。
A3: 団体名
H4: 郵便番号と携帯番号は半角でハイフンを入れてください
A5: 団体連絡先 | H5: 名前
H6: 〒 | N6: 住所
H7: 携帯 | P7: ←携帯番号は半角でハイフンを入れてください
A8: 代表者連絡先 （団体連絡先と同じ場合は空欄） | H8: 名前
H9: 〒 | N9: 住所
H10: 携帯 | I10: け | P10: ←携帯番号は半角でハイフンを入れてください
A11: 【講座】
A12: ↓受講希望講座の欄に、合計人数とパート内訳を必ずご記入ください。
C13: 講師：本山秀毅 先生 | O13: 講師：大志万明子 先生
A14: １４日 (日) | B14: ①9:30～10:40 | C14: 計 | D14: （ | F14: ）名 | G14: ① 団体レッスン 70分
C15: 第 | D15: （ | F15: )希望
B16: ➁10:50～12：30 | C16: 計 | D16: （ | F16: ）名 | G16: ➁ 全日本ｺﾝｸｰﾙ課題曲G1 100分
C17: S | D17: （ | F17: ）名
C18: A | D18: （ | F18: ）名 | G18: 「Ave Maria」Josquin des Prez
C19: T | D19: （ | F19: ）名 | G19: 全日本ｺﾝｸｰﾙ課題曲G3
C20: B | D20: （ | F20: ）名 | G20: 「七里浜」 團 伊玖磨
B21: ③⑥13:20～15:00 | C21: 計 | D21: （ | F21: ）名 | G21: ③ 全日本ｺﾝｸｰﾙ課題曲F1 100分 | O21: 計 | P21: （ | R21: ）名 | S21: ⑥ 発声(混声） 100分
C22: S1 | D22: （ | F22: ）名 | O22: S | P22: （ | R22: ）名
C23: S2 | D23: （ | F23: ）名 | G23: 「O vos omnes」 T.L.de Victoria | O23: A | P23: （ | R23: ）名
C24: M | D24: （ | F24: ）名 | G24: 全日本ｺﾝｸｰﾙ課題曲F4 | O24: T | P24: （ | R24: ）名
C25: A | D25: （ | F25: ）名 | G25: 「子守唄」 三宅 悠太 | O25: B | P25: （ | R25: ）名
B26: ④15:10～16:20 ⑦15:10～16:50 | C26: 計 | D26: （ | F26: ）名 | G26: ④ 団体レッスン 70分 | O26: 計 | P26: （ | R26: ）名 | S26: ⑦ 発声(女声） 100分
O27: S | P27: （ | R27: ）名
C28: 第 | D28: （ | F28: )希望 | O28: M | P28: （ | R28: ）名
O29: A | P29: （ | R29: ）名
B30: ④16:30～17:40 ⑧17:00～17:40 | C30: 計 | D30: （ | F30: ）名 | G30: ⑤ 団体レッスン 70分 | O30: モデルは3名 | S30: ⑧ 個人発声 40分
O31: モデル希望 | P31: （ | R31: ）名
C32: 第 | D32: （ | F32: )希望 | O32: 聴講 | P32: （ | R32: ）名 | S32: (発声の悩み相談室）
C33: 講師：山本高栄 先生 | O33: 講師：大志万明子 先生
A34: １5日 (月・祝) | B34: 10:30～11:40 | C34: 計 | D34: （ | F34: ）名 | G34: ⑨ 団体レッスン 70分 | O34: モデルは5名 | S34: ⑫ 個人発声 70分
O35: モデル希望 | P35: （ | R35: ）名
C36: 第 | D36: （ | F36: )希望 | O36: 聴講 | P36: （ | R36: ）名 | S36: (発声の悩み相談室）
B37: 12:30～14:10 | C37: 計 | D37: （ | F37: ）名 | G37: ⑩ NHKｺﾝｸｰﾙ中学課題曲 100分 | S37: ⑬ 女声対象 100分
C38: S | D38: （ | F38: ）名 | O38: 計 | P38: （ | R38: ）名
C39: M | D39: （ | F39: ）名 | G39: 「僕らはいきものだから」 | O39: S | P39: （ | R39: ）名 | S39: 発声講座
C40: A | D40: （ | F40: ）名 | O40: M | P40: （ | R40: ）名
...

Sheet 出力画面（さわらないでください）
A1: 団体名 | B1: 団体連絡名前 | C1: 団体連絡先〒 | D1: 団体住所 | E1: 団体携帯 | F1: 代表者連絡名前 | G1: 代表連絡〒 | H1: 代表住所 | I1: 代表携帯 | J1: ①団体人数 | K1: ①希望順 | L1: ➁計 | M1: ➁Ｓ | N1: ➁Ａ | O1: ➁Ｔ | P1: ➁Ｂ | Q1: ③計 | R1: ③Ｓ1 | S1: ③Ｓ2 | T1: ③M | U1: ③A | V1: ④団体人数 | W1: ④希望順 | X1: ⑤団体人数 | Y1: ⑤希望順 | Z1: ⑥計 | AA1: ⑥Ｓ | AB1: ⑥Ａ | AC1: ⑥Ｔ | AD1: ⑥Ｂ | AE1: ⑦計 | AF1: ⑦Ｓ | AG1: ⑦M | AH1: ⑦Ａ | AI1: ⑧モ | AJ1: ⑧聴講 | AK1: ⑨団体人数 | AL1: ⑨希望順 | AM1: ⑩計Nコン | AN1: ⑩Ｓ | AO1: ⑩M | AP1: ⑩Ａ | AQ1: ⑩男 | AR1: ⑪計ﾌﾞｰｹ | AS1: ⑪Ｓ | AT1: ⑪M | AU1: ⑪Ａ | AV1: ⑫モ | AW1: ⑫聴講 | AX1: 計 | AY1: ⑫Ｓ | AZ1: ⑬M | BA1: ⑬Ａ | BB1: ⑭計中学 | BC1: ⑭Ｓ | BD1: ⑭M | BE1: ⑭Ａ | BF1: ⑭男 | BM1: ⑤希望順 | BN1: ⑥計 | BO1: ⑥希望順
A2: ='入力画面 (○)'!H3 -> 0 | B2: ='入力画面 (○)'!I5 -> 0 | C2: ='入力画面 (○)'!I6 -> 0 | D2: ='入力画面 (○)'!O6 -> 0 | E2: ='入力画面 (○)'!I7 -> 0 | F2: ='入力画面 (○)'!I8 -> 0 | G2: ='入力画面 (○)'!I9 -> 0 | H2: ='入力画面 (○)'!O9 -> 0 | I2: ='入力画面 (○)'!I10:O10 -> け | J2: ='入力画面 (○)'!E14 -> 0 | K2: ='入力画面 (○)'!E15 -> 0 | L2: ='入力画面 (○)'!E16 -> 0 | M2: ='入力画面 (○)'!E17 -> 0 | N2: ='入力画面 (○)'!E18 -> 0 | O2: ='入力画面 (○)'!E19 -> 0 | P2: ='入力画面 (○)'!E20 -> 0 | Q2: ='入力画面 (○)'!E21 -> 0 | R2: ='入力画面 (○)'!E22 -> 0 | S2: ='入力画面 (○)'!E23 -> 0 | T2: ='入力画面 (○)'!E24 -> 0 | U2: ='入力画面 (○)'!E25 -> 0 | V2: ='入力画面 (○)'!E26 -> 0 | W2: ='入力画面 (○)'!E28 -> 0 | X2: ='入力画面 (○)'!E30 -> 0 | Y2: ='入力画面 (○)'!E32 -> 0 | Z2: ='入力画面 (○)'!Q21 -> 0 | AA2: ='入力画面 (○)'!Q22 -> 0 | AB2: ='入力画面 (○)'!Q23 -> 0 | AC2: ='入力画面 (○)'!Q24 -> 0 | AD2: ='入力画面 (○)'!Q25 -> 0 | AE2: ='入力画面 (○)'!Q26 -> 0 | AF2: ='入力画面 (○)'!Q27 -> 0 | AG2: ='入力画面 (○)'!Q28 -> 0 | AH2: ='入力画面 (○)'!Q29 -> 0 | AI2: ='入力画面 (○)'!Q31 -> 0 | AJ2: ='入力画面 (○)'!Q32 -> 0 | AK2: ='入力画面 (○)'!E34 -> 0 | AL2: ='入力画面 (○)'!E36 -> 0 | AM2: ='入力画面 (○)'!E37 -> 0 | AN2: ='入力画面 (○)'!E38 -> 0 | AO2: ='入力画面 (○)'!E39 -> 0 | AP2: ='入力画面 (○)'!E40 -> 0 | AQ2: ='入力画面 (○)'!E41 -> 0 | AR2: ='入力画面 (○)'!E43 -> 0 | AS2: ='入力画面 (○)'!E44 -> 0 | AT2: ='入力画面 (○)'!E45 -> 0 | AU2: ='入力画面 (○)'!E46 -> 0 | AV2: ='入力画面 (○)'!Q35 -> 0 | AW2: ='入力画面 (○)'!Q36 -> 0 | AX2: ='入力画面 (○)'!Q38 -> 0 | AY2: ='入力画面 (○)'!Q39 -> 0 | AZ2: ='入力画面 (○)'!Q40 -> 0 | BA2: ='入力画面 (○)'!Q41 -> 0 | BB2: ='入力画面 (○)'!Q42 -> 0 | BC2: ='入力画面 (○)'!Q43 -> 0 | BD2: ='入力画面 (○)'!Q44 -> 0 | BE2: ='入力画面 (○)'!Q45 -> 0 | BF2: ='入力画面 (○)'!Q46 -> 0
A5: 名簿 | B5: パート | C5: 名前 | D5: 受講番号 | F5: 備考
A6: ='入力画面 (○)'!E52 -> 0 | B6: ='入力画面 (○)'!C54 -> 0 | C6: ='入力画面 (○)'!D54 -> 0 | D6: ='入力画面 (○)'!L54 -> 0 | F6: ='入力画面 (○)'!C76 -> 0
A7: ='入力画面 (○)'!E52 -> 0 | B7: ='入力画面 (○)'!C55 -> 0 | C7: ='入力画面 (○)'!D55 -> 0 | D7: ='入力画面 (○)'!L55 -> 0
A8: ='入力画面 (○)'!E52 -> 0 | B8: ='入力画面 (○)'!C56 -> 0 | C8: ='入力画面 (○)'!D56 -> 0 | D8: ='入力画面 (○)'!L56 -> 0
A9: ='入力画面 (○)'!E52 -> 0 | B9: ='入力画面 (○)'!C57 -> 0 | C9: ='入力画面 (○)'!D57 -> 0 | D9: ='入力画面 (○)'!L57 -> 0
A10: ='入力画面 (○)'!E52 -> 0 | B10: ='入力画面 (○)'!C58 -> 0 | C10: ='入力画面 (○)'!D58 -> 0 | D10: ='入力画面 (○)'!L58 -> 0
A11: ='入力画面 (○)'!E52 -> 0 | B11: ='入力画面 (○)'!C59 -> 0 | C11: ='入力画面 (○)'!D59 -> 0 | D11: ='入力画面 (○)'!L59 -> 0
A12: ='入力画面 (○)'!E52 -> 0 | B12: ='入力画面 (○)'!C60 -> 0 | C12: ='入力画面 (○)'!D60 -> 0 | D12: ='入力画面 (○)'!L60 -> 0
A13: ='入力画面 (○)'!E52 -> 0 | B13: ='入力画面 (○)'!C61 -> 0 | C13: ='入力画面 (○)'!D61 -> 0 | D13: ='入力画面 (○)'!L61 -> 0
A14: ='入力画面 (○)'!E52 -> 0 | B14: ='入力画面 (○)'!C62 -> 0 | C14: ='入力画面 (○)'!D62 -> 0 | D14: ='入力画面 (○)'!L62 -> 0
A15: ='入力画面 (○)'!E52 -> 0 | B15: ='入力画面 (○)'!C63 -> 0 | C15: ='入力画面 (○)'!D63 -> 0 | D15: ='入力画面 (○)'!L63 -> 0
A16: ='入力画面 (○)'!E52 -> 0 | B16: ='入力画面 (○)'!C64 -> 0 | C16: ='入力画面 (○)'!D64 -> 0 | D16: ='入力画面 (○)'!L64 -> 0
A17: ='入力画面 (○)'!E52 -> 0 | B17: ='入力画面 (○)'!C65 -> 0 | C17: ='入力画面 (○)'!D65 -> 0 | D17: ='入力画面 (○)'!L65 -> 0
A18: ='入力画面 (○)'!E52 -> 0 | B18: ='入力画面 (○)'!C66 -> 0 | C18: ='入力画面 (○)'!D66 -> 0 | D18: ='入力画面 (○)'!L66 -> 0
A19: ='入力画面 (○)'!E52 -> 0 | B19: ='入力画面 (○)'!C67 -> 0 | C19: ='入力画面 (○)'!D67 -> 0 | D19: ='入力画面 (○)'!L67 -> 0
A20: ='入力画面 (○)'!E52 -> 0 | B20: ='入力画面 (○)'!C68 -> 0 | C20: ='入力画面 (○)'!D68 -> 0 | D20: ='入力画面 (○)'!L68 -> 0
A21: ='入力画面 (○)'!E52 -> 0 | B21: ='入力画面 (○)'!C69 -> 0 | C21: ='入力画面 (○)'!D69 -> 0 | D21: ='入力画面 (○)'!L69 -> 0
A22: ='入力画面 (○)'!E52 -> 0 | B22: ='入力画面 (○)'!C70 -> 0 | C22: ='入力画面 (○)'!D70 -> 0 | D22: ='入力画面 (○)'!L70 -> 0
A23: ='入力画面 (○)'!E52 -> 0 | B23: ='入力画面 (○)'!C71 -> 0 | C23: ='入力画面 (○)'!D71 -> 0 | D23: ='入力画面 (○)'!L71 -> 0
A24: ='入力画面 (○)'!E52 -> 0 | B24: ='入力画面 (○)'!C72 -> 0 | C24: ='入力画面 (○)'!D72 -> 0 | D24: ='入力画面 (○)'!L72 -> 0
A25: ='入力画面 (○)'!E52 -> 0 | B25: ='入力画面 (○)'!C73 -> 0 | C25: ='入力画面 (○)'!D73 -> 0 | D25: ='入力画面 (○)'!L73 -> 0
A26: ='入力画面 (○)'!E52 -> 0 | B26: ='入力画面 (○)'!O54 -> 0 | C26: ='入力画面 (○)'!Q54 -> 0 | D26: ='入力画面 (○)'!X54 -> 0
A27: ='入力画面 (○)'!E52 -> 0 | B27: ='入力画面 (○)'!O55 -> 0 | C27: ='入力画面 (○)'!Q55 -> 0 | D27: ='入力画面 (○)'!X55 -> 0
A28: ='入力画面 (○)'!E52 -> 0 | B28: ='入力画面 (○)'!O56 -> 0 | C28: ='入力画面 (○)'!Q56 -> 0 | D28: ='入力画面 (○)'!X56 -> 0
A29: ='入力画面 (○)'!E52 -> 0 | B29: ='入力画面 (○)'!O57 -> 0 | C29: ='入力画面 (○)'!Q57 -> 0 | D29: ='入力画面 (○)'!X57 -> 0
A30: ='入力画面 (○)'!E52 -> 0 | B30: ='入力画面 (○)'!O58 -> 0 | C30: ='入力画面 (○)'!Q58 -> 0 | D30: ='入力画面 (○)'!X58 -> 0
A31: ='入力画面 (○)'!E52 -> 0 | B31: ='入力画面 (○)'!O59 -> 0 | C31: ='入力画面 (○)'!Q59 -> 0 | D31: ='入力画面 (○)'!X59 -> 0
A32: ='入力画面 (○)'!E52 -> 0 | B32: ='入力画面 (○)'!O60 -> 0 | C32: ='入力画面 (○)'!Q60 -> 0 | D32: ='入力画面 (○)'!X60 -> 0
A33: ='入力画面 (○)'!E52 -> 0 | B33: ='入力画面 (○)'!O61 -> 0 | C33: ='入力画面 (○)'!Q61 -> 0 | D33: ='入力画面 (○)'!X61 -> 0
A34: ='入力画面 (○)'!E52 -> 0 | B34: ='入力画面 (○)'!O62 -> 0 | C34: ='入力画面 (○)'!Q62 -> 0 | D34: ='入力画面 (○)'!X62 -> 0
A35: ='入力画面 (○)'!E52 -> 0 | B35: ='入力画面 (○)'!O63 -> 0 | C35: ='入力画面 (○)'!Q63 -> 0 | D35: ='入力画面 (○)'!X63 -> 0
A36: ='入力画面 (○)'!E52 -> 0 | B36: ='入力画面 (○)'!O64 -> 0 | C36: ='入力画面 (○)'!Q64 -> 0 | D36: ='入力画面 (○)'!X64 -> 0
A37: ='入力画面 (○)'!E52 -> 0 | B37: ='入力画面 (○)'!O65 -> 0 | C37: ='入力画面 (○)'!Q65 -> 0 | D37: ='入力画面 (○)'!X65 -> 0
A38: ='入力画面 (○)'!E52 -> 0 | B38: ='入力画面 (○)'!O66 -> 0 | C38: ='入力画面 (○)'!Q66 -> 0 | D38: ='入力画面 (○)'!X66 -> 0
A39: ='入力画面 (○)'!E52 -> 0 | B39: ='入力画面 (○)'!O67 -> 0 | C39: ='入力画面 (○)'!Q67 -> 0 | D39: ='入力画面 (○)'!X67 -> 0
A40: ='入力画面 (○)'!E52 -> 0 | B40: ='入力画面 (○)'!O68 -> 0 | C40: ='入力画面 (○)'!Q68 -> 0 | D40: ='入力画面 (○)'!X68 -> 0
A41: ='入力画面 (○)'!E52 -> 0 | B41: ='入力画面 (○)'!O69 -> 0 | C41: ='入力画面 (○)'!Q69 -> 0 | D41: ='入力画面 (○)'!X69 -> 0
A42: ='入力画面 (○)'!E52 -> 0 | B42: ='入力画面 (○)'!O70 -> 0 | C42: ='入力画面 (○)'!Q70 -> 0 | D42: ='入力画面 (○)'!X70 -> 0
...
